BEGIN:VCALENDAR
VERSION:2.0
PRODID:-//The Grit Game - ECPv6.15.20//NONSGML v1.0//EN
CALSCALE:GREGORIAN
METHOD:PUBLISH
X-ORIGINAL-URL:https://thegritgame.com
X-WR-CALDESC:Events for The Grit Game
REFRESH-INTERVAL;VALUE=DURATION:PT1H
X-Robots-Tag:noindex
X-PUBLISHED-TTL:PT1H
BEGIN:VTIMEZONE
TZID:America/New_York
BEGIN:DAYLIGHT
TZOFFSETFROM:-0500
TZOFFSETTO:-0400
TZNAME:EDT
DTSTART:20250309T070000
END:DAYLIGHT
BEGIN:STANDARD
TZOFFSETFROM:-0400
TZOFFSETTO:-0500
TZNAME:EST
DTSTART:20251102T060000
END:STANDARD
BEGIN:DAYLIGHT
TZOFFSETFROM:-0500
TZOFFSETTO:-0400
TZNAME:EDT
DTSTART:20260308T070000
END:DAYLIGHT
BEGIN:STANDARD
TZOFFSETFROM:-0400
TZOFFSETTO:-0500
TZNAME:EST
DTSTART:20261101T060000
END:STANDARD
BEGIN:DAYLIGHT
TZOFFSETFROM:-0500
TZOFFSETTO:-0400
TZNAME:EDT
DTSTART:20270314T070000
END:DAYLIGHT
BEGIN:STANDARD
TZOFFSETFROM:-0400
TZOFFSETTO:-0500
TZNAME:EST
DTSTART:20271107T060000
END:STANDARD
END:VTIMEZONE
BEGIN:VEVENT
DTSTART;VALUE=DATE:20260218
DTEND;VALUE=DATE:20260221
DTSTAMP:20260423T051612
CREATED:20250703T170138Z
LAST-MODIFIED:20251103T151433Z
UID:10000072-1771372800-1771631999@thegritgame.com
SUMMARY:NATIONAL PLASTERS COUNCIL ANNUAL CONVENTION 2026
DESCRIPTION:« All Events\n \nNATIONAL PLASTERS COUNCIL ANNUAL CONVENTION 2026\nFor decades\, the National Plasterers Council has supported consumers and industry professionals in addressing challenges related to pool plaster surfaces. The 37th Annual National Plasterers Council Conference stands as the premier gathering for experts in in-ground swimming pool and spa interior surface applications—including applicators\, manufacturers\, suppliers\, and distributors. This highly anticipated event unites thought leaders and exhibitors from across the pool and spa industry to share insights\, innovations\, and best practices. \nEvent Details\n\n	Date & Time:\n			February 18\, 2026\n	 –\n	February 20\, 2026 \n\n	Website:\n	https://www.npconline.org/\n\n	\n	Add to calendar	\n		\n	\n \n\n\n	Google Calendar\n\n\n	iCalendar\n\n\n	Outlook 365\n\n\n	Outlook Live\n\n\n\n			\n		Westin Anaheim Resort			\n	\n\n	Address:\n\n1030 W. Katella Ave.\n		\n		Anaheim\,\n	CA\n	92802\n	United States\n\n\n	+ Google Map \n\n					\n			657-279-9786			\n	 \n\n	View Venue Website \n\n \nAvoid onsite registration and \n					\n									Register Here\n					\n																														 \ntravel recommendations\nThe closest major airport is John Wayne Airport (SNA) in Santa Ana\, just 13 miles from the resort. It offers domestic flights and is a convenient option for most travelers. Other nearby airports include: \n\nLos Angeles International Airport (LAX) – ~35 miles away\, ideal for international arrivals.\nLong Beach Airport (LGB) – ~20 miles away\, a quieter alternative with select domestic routes.\n\nFrom any of these airports\, you can book a shuttle\, rideshare\, or private car service to the resort. \nBy Car\nDriving to the Westin Anaheim Resort is straightforward via major highways: \n\nFrom Los Angeles: Take I-5 South to Katella Avenue.\nFrom San Diego: Take I-5 North to Katella Avenue.\nFrom Palm Springs: Use CA-91 West to I-5 South.\n\nParking is available at the resort\, including valet and self-parking options. \nBy Bus or Taxi\nFor local transportation: \n\nAnaheim Town Car Services by Jag Transportation offers highly rated airport shuttles\, private car service\, and limousine options for a smooth ride to the resort.\nART (Anaheim Resort Transportation) provides shuttle service throughout the Anaheim area\, including stops near Disneyland and major hotels.\n\n																														 \naccommodations\n\nThe Westin Anaheim Resort: Upscale hotel with rooftop bar\, pool\, and direct views of Disneyland® Resort.\nAnaheim Marriott: Sleek\, modern hotel with spacious rooms\, a lively bar\, and walking distance to the Anaheim Convention Center.\nHilton Anaheim: Large convention hotel featuring multiple dining options\, a health club\, and family-friendly amenities.\nHyatt Regency Orange County: Stylish hotel with shuttle service to Disneyland\, two outdoor pools\, and on-site dining.\nSheraton Park Hotel at the Anaheim Resort: Comfortable rooms with balconies\, resort-style pool\, and proximity to both Disneyland and the convention center.\nResidence Inn by Marriott Anaheim Resort Area/Garden Grove: Extended-stay option with kitchenettes\, complimentary breakfast\, and family-friendly suites.\nAnaheim Desert Inn & Suites: Budget-friendly hotel with rooftop views of Disneyland fireworks\, free breakfast\, and group-friendly accommodations.\n\n																														 \nrestaurant recommendations\n\nTangerine Room: Inventive Californian fare served in a breezy\, upscale setting. Located inside The Westin Anaheim Resort\, it’s perfect for a refined lunch or dinner.\nThe Westin Anaheim Resort: Beyond lodging\, this resort features multiple dining venues including a rooftop bar with theme park views.\nFarmer’s Fridge: Located at GardenWalk\, this 24-hour health food spot offers fresh salads and bowls from smart vending machines—great for a quick\, nutritious bite.\nPuesto Anaheim: A vibrant Mexican restaurant known for its tacos\, ceviche\, and craft margaritas. Stylish and lively\, it’s a local favorite.\nRoy’s Restaurant: Upscale Hawaiian fusion cuisine by chef Roy Yamaguchi. Think sesame-crusted swordfish and sushi in a sleek setting.\nSarahi’s Mexican Grill: A hidden gem with authentic flavors and a 4.7 rating. Great for casual dining and generous portions.\n\n																														 \nnearby attractions\n\nDowntown Disney District: A lively promenade with whimsical shops\, themed restaurants\, and live entertainment. Great for casual outings or post-conference relaxation.\nDisneyland Park: The iconic theme park with classic rides\, immersive lands\, and beloved characters. Just steps away from the resort.\nDisney California Adventure Park: A modern twist on theme park fun with thrilling attractions\, live shows\, and diverse dining options.\nAnaheim GardenWalk: Open-air shopping and entertainment district featuring restaurants\, bowling\, nightlife\, and live music.\nHouse of Blues Anaheim: Located in GardenWalk\, this venue hosts concerts\, comedy shows\, and a soulful restaurant with Southern-inspired cuisine.\nFlightdeck Flight Simulation Center: Experience aerial combat or commercial flight simulations in a realistic cockpit setting—great for team-building or solo adventure.\nAngel Stadium of Anaheim: Home of the Los Angeles Angels\, this stadium offers MLB games\, tours\, and seasonal events just a short drive away.
URL:https://thegritgame.com/event/national-plasters-council-annual-convention-2026/
LOCATION:Westin Anaheim Resort\, 1030 W. Katella Ave.\, Anaheim\, CA\, 92802\, United States
END:VEVENT
END:VCALENDAR