BEGIN:VCALENDAR
VERSION:2.0
PRODID:-//The Grit Game - ECPv6.15.20//NONSGML v1.0//EN
CALSCALE:GREGORIAN
METHOD:PUBLISH
X-WR-CALNAME:The Grit Game
X-ORIGINAL-URL:https://thegritgame.com
X-WR-CALDESC:Events for The Grit Game
REFRESH-INTERVAL;VALUE=DURATION:PT1H
X-Robots-Tag:noindex
X-PUBLISHED-TTL:PT1H
BEGIN:VTIMEZONE
TZID:America/New_York
BEGIN:DAYLIGHT
TZOFFSETFROM:-0500
TZOFFSETTO:-0400
TZNAME:EDT
DTSTART:20240310T070000
END:DAYLIGHT
BEGIN:STANDARD
TZOFFSETFROM:-0400
TZOFFSETTO:-0500
TZNAME:EST
DTSTART:20241103T060000
END:STANDARD
BEGIN:DAYLIGHT
TZOFFSETFROM:-0500
TZOFFSETTO:-0400
TZNAME:EDT
DTSTART:20250309T070000
END:DAYLIGHT
BEGIN:STANDARD
TZOFFSETFROM:-0400
TZOFFSETTO:-0500
TZNAME:EST
DTSTART:20251102T060000
END:STANDARD
BEGIN:DAYLIGHT
TZOFFSETFROM:-0500
TZOFFSETTO:-0400
TZNAME:EDT
DTSTART:20260308T070000
END:DAYLIGHT
BEGIN:STANDARD
TZOFFSETFROM:-0400
TZOFFSETTO:-0500
TZNAME:EST
DTSTART:20261101T060000
END:STANDARD
END:VTIMEZONE
BEGIN:VEVENT
DTSTART;TZID=America/New_York:20250814T100000
DTEND;TZID=America/New_York:20250814T150000
DTSTAMP:20260420T051855
CREATED:20250619T132433Z
LAST-MODIFIED:20250812T135624Z
UID:2765-1755165600-1755183600@thegritgame.com
SUMMARY:AQUAGON TENT SALE: ST. LOUIS\, MO
DESCRIPTION:« All Events\n 				\n				\n					\n				\n		\n					\n					\n				\n		\n					\n				\n				\n									AQUAGON TENT SALE: ST. LOUIS\, MOThis year’s 42nd Annual Aqua-Gon Tent Sale is coming to four branches in August! It all happens in two months at their New Berlin\, St. Louis\, Naperville\, and Lee’s Summit locations. They will have tabletop vendor displays\, discounted products\, and exclusive event-day specials. Food and refreshments will also be available at all locations. Check the schedule for your exact location and date. Aqua-Gon\, Inc. began in 1965 with the sole purpose of providing reliable service to the pool and hot tub industry. We pride ourselves on our service\, knowledge and quick action to help make your business run smoothly. Wholesale distribution is our only business\, and we invite you to call and try us today! 								\n				\n		\n		\n				\n				\n					Event Details				\n				\n				\n				\n					\n	\n	Date & Time:	\n			August 14\, 2025\n\n	\n\n	 @ \n\n\n10:00 am\n\n		\n\n\n\n	\n	 - \n\n3:00 pm\n\n\n\n	\n				\n				\n				\n				\n					\n	\n	Website:	\n	https://aquagon.com/locations/\n\n				\n				\n				\n				\n					\n	\n		\n\n	\n	Add to calendar	\n		\n	\n\n		\n			\n									\n	Google Calendar\n\n									\n	iCalendar\n\n									\n	Outlook 365\n\n									\n	Outlook Live\n\n							\n		\n\n		\n	\n\n				\n				\n				\n		\n				\n				\n					\n				\n				\n	\n			\n		St. Louis\, MO			\n	\n	\n	Address:\n	\n\n10602 Trenton Ave St. Louis\, Missouri 63132\n	\n		\n		St. Louis\,\n\n	MO\n\n	63132\n\n	United States\n\n\n\n\n	+ Google Map \n\n\n	\n					\n						\n	 \n\n\n	\n	View Venue Website \n\n\n\n	\n\n\n\n		\n	\n				\n				\n				\n				\n				\n				\n									Why Distribution?Local inventory of products you need quicklyDelivery when and where you need itBreadth of products (one stop shopping + better efficiency for you = more focus on selling/building/servicing)Product knowledge and expertise to troubleshoot or get you the correct technical expert quicklyWarranty knowledge and supportCredit terms including Early Buys for those in good standingAqua-Gon Core Values: ServiceInside & outside sales teams with 330+ years of industry knowledgeFleet of trucks to get you product when & where you need itKnowledgeDedicated sales team with over 330 years of pool industry experienceTraining Events such as “Tent Sale” and “No Train\, No Gain” to help grow your industry expertiseLong-term vendor relationships to get you the field support you needQuick ActionPresident involved in day-to-day\, we make quick decisionsFlexible mentality to help when you need it mostWarranty support – they make it easy on you								\n				\n					\n				\n		\n					\n				\n				\n							\n			\n						\n		\n						\n				\n					\n				\n		\n					\n		\n				\n				\n																														\n				\n				\n		\n				\n				\n					travel recommendations				\n				\n				\n				\n									St. Louis Lambert International Airport (STL) is just 10–15 minutes away by car. It’s the most convenient option with domestic and limited international flights.For private or charter flights\, Spirit of St. Louis Airport (SUS) is about 30 minutes west.Amtrak – St. Louis Gateway Station connects to major cities like Chicago and Kansas City. From there\, it’s about a 20-minute drive to your destination.Located near I-170 and Page Ave\, the address is easily accessible from I-64\, I-70\, and I-270.Rideshare services like Uber and Lyft are widely available\, and rental cars can be picked up at STL Airport or nearby agencies								\n				\n				\n					\n				\n		\n					\n				\n				\n							\n			\n						\n		\n						\n				\n					\n				\n		\n					\n		\n				\n				\n																														\n				\n				\n		\n				\n				\n					accommodations				\n				\n				\n				\n									Days Inn & Suites by Wyndham St. Louis/Westport Plaza: Simple and convenient with free breakfast and parking.Comfort Inn St. Louis – Westport Event Center: Includes dining\, an outdoor pool\, and airport shuttle.La Quinta Inn & Suites by Wyndham St. Louis Westport: Casual stay with complimentary breakfast and shuttle service.Extended Stay America – St. Louis – Westport – Central: Ideal for longer visits with kitchenettes and free Wi-Fi.Clayton Plaza Hotel: A bit more upscale with two pools\, meeting rooms\, and a great breakfast.								\n				\n				\n					\n				\n		\n					\n				\n				\n							\n			\n						\n		\n						\n				\n					\n				\n		\n					\n				\n				\n					2024 Grit Game Flash Backs!
URL:https://thegritgame.com/event/aquagon-tent-sale/
LOCATION:St. Louis\, MO\, 10602 Trenton Ave St. Louis\, Missouri 63132\, St. Louis\, MO\, 63132\, United States
ATTACH;FMTTYPE=image/png:https://thegritgame.com/wp-content/uploads/2025/06/Aqua-gon-The-Grit-Game-.png
END:VEVENT
END:VCALENDAR